BEGIN:VCALENDAR
VERSION:2.0
PRODID:-//VLClub - ECPv6.15.20//NONSGML v1.0//EN
CALSCALE:GREGORIAN
METHOD:PUBLISH
X-ORIGINAL-URL:https://www.vl-club.be
X-WR-CALDESC:Évènements pour VLClub
REFRESH-INTERVAL;VALUE=DURATION:PT1H
X-Robots-Tag:noindex
X-PUBLISHED-TTL:PT1H
BEGIN:VTIMEZONE
TZID:Europe/Brussels
BEGIN:DAYLIGHT
TZOFFSETFROM:+0100
TZOFFSETTO:+0200
TZNAME:CEST
DTSTART:20250330T010000
END:DAYLIGHT
BEGIN:STANDARD
TZOFFSETFROM:+0200
TZOFFSETTO:+0100
TZNAME:CET
DTSTART:20251026T010000
END:STANDARD
BEGIN:DAYLIGHT
TZOFFSETFROM:+0100
TZOFFSETTO:+0200
TZNAME:CEST
DTSTART:20260329T010000
END:DAYLIGHT
BEGIN:STANDARD
TZOFFSETFROM:+0200
TZOFFSETTO:+0100
TZNAME:CET
DTSTART:20261025T010000
END:STANDARD
BEGIN:DAYLIGHT
TZOFFSETFROM:+0100
TZOFFSETTO:+0200
TZNAME:CEST
DTSTART:20270328T010000
END:DAYLIGHT
BEGIN:STANDARD
TZOFFSETFROM:+0200
TZOFFSETTO:+0100
TZNAME:CET
DTSTART:20271031T010000
END:STANDARD
END:VTIMEZONE
BEGIN:VEVENT
DTSTART;TZID=Europe/Brussels:20260321T183000
DTEND;TZID=Europe/Brussels:20260321T233000
DTSTAMP:20260421T203816
CREATED:20260305T235413Z
LAST-MODIFIED:20260305T235627Z
UID:6541-1774117800-1774135800@www.vl-club.be
SUMMARY:Samedi 21 mars Soirée annuelle du VL spéciale raclette valaisanne
DESCRIPTION:Retour aux traditions pour notre soirée annuelle de printemps\nAprès quelques années au cours desquelles le VL s’est attaché à vous proposer des soirées différentes\, ce samedi 21 mars 2026\, jour du printemps\, nous reviendrons avec notre traditionnelle soirée raclette valaisanne que notre ami et membre Gary CORNU\, pour avoir vécu plusieurs années dans le Valais suisse\, sait si bien nous servir. \nÀ chaque fois par le passé où nos papilles ont pu la déguster\, cette raclette valaisanne a remporté un large succès auprès de la plupart de nos participants. Nul doute qu’il en sera de même ce samedi 21 mars. \nUn lieu inédit pour cette édition\n \n  \nPour l’occasion\, cette soirée de printemps\, spéciale raclette\, se déroulera dans le local de réception et restauration\, tout récemment rénové\, du stade du Royal Stockay Saint-Georges\, le club de foot cher à notre président. Certains de nos membres le connaissent déjà pour y être allé lors de notre journée «une rencontre à Stockay». \nNous espérons vous voir nombreux ce samedi 21 mars pour ce retour aux traditions du VL  ! \nLe comité du VL Club \nAdresse du jour\nRoyal Stockay Saint-Georges\, Rue Joseph Wauters\, 36B 4470 Saint-Georges-sur-Meuse \n\n  \nMenu & Conditions de participation\n18h30\nWelcome drink (offert)\nApéro Cava\, soft \n\n19h30\nSpéciale raclette valaisanne\, à volonté\nVin fendant compris\n\nPAF : 40€ par personne\n\nEn vente\, autres boissons\, bières\, softs\, vins\n\nInscription via le formulaire ici présent pour le MERCREDI 18 mars 19H au plus tard.\n\nPaiement : votre paiement fait office de confirmation de votre inscription ainsi que de vos accompagnants\, à nous faire parvenir avant le 18 mars sur le compte du VL : BE42 0016 9130 7154 Communication : Nom\, prénom\, nombre de participants\n\n\n 
URL:https://www.vl-club.be/evenement/samedi-21-mars-soiree-annuelle-du-vl-speciale-raclette-valaisanne/
LOCATION:Stade Royal Stockay Saint-Georges\, Rue Joseph Wauters 36B\, Saint-Georges-sur-Meuse\, Liège\, 4470\, Belgium
CATEGORIES:Activités
ATTACH;FMTTYPE=image/jpeg:https://www.vl-club.be/wp-content/uploads/2026/03/raclette.jpg
ORGANIZER;CN="VL Club":MAILTO:info@vl-club.be
END:VEVENT
END:VCALENDAR